BEGIN:VCALENDAR
VERSION:2.0
PRODID:-//FremontGurdwara - ECPv6.15.20//NONSGML v1.0//EN
CALSCALE:GREGORIAN
METHOD:PUBLISH
X-ORIGINAL-URL:https://fremontgurdwara.org
X-WR-CALDESC:Events for FremontGurdwara
REFRESH-INTERVAL;VALUE=DURATION:PT1H
X-Robots-Tag:noindex
X-PUBLISHED-TTL:PT1H
BEGIN:VTIMEZONE
TZID:UTC
BEGIN:STANDARD
TZOFFSETFROM:+0000
TZOFFSETTO:+0000
TZNAME:UTC
DTSTART:20150101T000000
END:STANDARD
END:VTIMEZONE
BEGIN:VEVENT
DTSTART;TZID=UTC:20161128T080000
DTEND;TZID=UTC:20161128T170000
DTSTAMP:20260422T025942
CREATED:20161123T163047Z
LAST-MODIFIED:20161123T163047Z
UID:8039-1480320000-1480352400@fremontgurdwara.org
SUMMARY:Wedding on Nov 28th
DESCRIPTION:Book Place for Wedding.
URL:https://fremontgurdwara.org/event/wedding-on-nov-28th/
LOCATION:Fremont Gurdwara\, 300 Gurdwara Road\, fremont\, CA\, United States
CATEGORIES:Weddings
END:VEVENT
END:VCALENDAR