BEGIN:VCALENDAR
VERSION:2.0
PRODID:-//FremontGurdwara - ECPv6.15.20//NONSGML v1.0//EN
CALSCALE:GREGORIAN
METHOD:PUBLISH
X-WR-CALNAME:FremontGurdwara
X-ORIGINAL-URL:https://fremontgurdwara.org
X-WR-CALDESC:Events for FremontGurdwara
REFRESH-INTERVAL;VALUE=DURATION:PT1H
X-Robots-Tag:noindex
X-PUBLISHED-TTL:PT1H
BEGIN:VTIMEZONE
TZID:UTC
BEGIN:STANDARD
TZOFFSETFROM:+0000
TZOFFSETTO:+0000
TZNAME:UTC
DTSTART:20150101T000000
END:STANDARD
END:VTIMEZONE
BEGIN:VEVENT
DTSTART;TZID=UTC:20161222T200000
DTEND;TZID=UTC:20161222T204500
DTSTAMP:20260420T024157
CREATED:20161217T154345Z
LAST-MODIFIED:20161217T154345Z
UID:14052-1482436800-1482439500@fremontgurdwara.org
SUMMARY:Kirtan
DESCRIPTION:Ragi Jatha: Gurpreet Singh Mohali
URL:https://fremontgurdwara.org/event/kirtan-2016-12-22/
CATEGORIES:Daily Programs
END:VEVENT
BEGIN:VEVENT
DTSTART;TZID=UTC:20161221T200000
DTEND;TZID=UTC:20161221T204500
DTSTAMP:20260420T024157
CREATED:20161217T154345Z
LAST-MODIFIED:20161217T154345Z
UID:14051-1482350400-1482353100@fremontgurdwara.org
SUMMARY:Kirtan
DESCRIPTION:Ragi Jatha: Gurpreet Singh Mohali
URL:https://fremontgurdwara.org/event/kirtan-2016-12-21/
CATEGORIES:Daily Programs
END:VEVENT
BEGIN:VEVENT
DTSTART;TZID=UTC:20161220T200000
DTEND;TZID=UTC:20161220T204500
DTSTAMP:20260420T024157
CREATED:20161217T154345Z
LAST-MODIFIED:20161217T154345Z
UID:14050-1482264000-1482266700@fremontgurdwara.org
SUMMARY:Kirtan
DESCRIPTION:Ragi Jatha: Gurpreet Singh Mohali
URL:https://fremontgurdwara.org/event/kirtan-2016-12-20/
CATEGORIES:Daily Programs
END:VEVENT
BEGIN:VEVENT
DTSTART;TZID=UTC:20161219T200000
DTEND;TZID=UTC:20161219T204500
DTSTAMP:20260420T024157
CREATED:20161217T154345Z
LAST-MODIFIED:20161217T155746Z
UID:14025-1482177600-1482180300@fremontgurdwara.org
SUMMARY:Kirtan
DESCRIPTION:Ragi Jatha: Gurpreet Singh Mohali
URL:https://fremontgurdwara.org/event/kirtan/
CATEGORIES:Daily Programs
END:VEVENT
BEGIN:VEVENT
DTSTART;TZID=UTC:20161123T190000
DTEND;TZID=UTC:20161126T200000
DTSTAMP:20260420T024157
CREATED:20161123T161031Z
LAST-MODIFIED:20161123T161031Z
UID:8033-1479927600-1480190400@fremontgurdwara.org
SUMMARY:Raagi ABC Coming
DESCRIPTION:Daily Programs from Nov 21st – Nov 24th \nTime: 7:00 pm – 8:30 pm PST
URL:https://fremontgurdwara.org/event/raagi-abc-coming/
LOCATION:Fremont Gurdwara\, 300 Gurdwara Road\, fremont\, CA\, United States
CATEGORIES:Daily Programs
ATTACH;FMTTYPE=image/jpeg:https://fremontgurdwara.org/wp-content/uploads/2016/04/12977250_1108862039152790_6233744893515623623_o-1.jpg
END:VEVENT
END:VCALENDAR